BEGIN:VCALENDAR
VERSION:2.0
PRODID:-//Meals on Wheels of Greeley and Weld County - ECPv6.15.20//NONSGML v1.0//EN
CALSCALE:GREGORIAN
METHOD:PUBLISH
X-ORIGINAL-URL:https://mealsonwheelsgreeley.com
X-WR-CALDESC:Events for Meals on Wheels of Greeley and Weld County
REFRESH-INTERVAL;VALUE=DURATION:PT1H
X-Robots-Tag:noindex
X-PUBLISHED-TTL:PT1H
BEGIN:VTIMEZONE
TZID:America/Denver
BEGIN:DAYLIGHT
TZOFFSETFROM:-0700
TZOFFSETTO:-0600
TZNAME:MDT
DTSTART:20250309T090000
END:DAYLIGHT
BEGIN:STANDARD
TZOFFSETFROM:-0600
TZOFFSETTO:-0700
TZNAME:MST
DTSTART:20251102T080000
END:STANDARD
BEGIN:DAYLIGHT
TZOFFSETFROM:-0700
TZOFFSETTO:-0600
TZNAME:MDT
DTSTART:20260308T090000
END:DAYLIGHT
BEGIN:STANDARD
TZOFFSETFROM:-0600
TZOFFSETTO:-0700
TZNAME:MST
DTSTART:20261101T080000
END:STANDARD
BEGIN:DAYLIGHT
TZOFFSETFROM:-0700
TZOFFSETTO:-0600
TZNAME:MDT
DTSTART:20270314T090000
END:DAYLIGHT
BEGIN:STANDARD
TZOFFSETFROM:-0600
TZOFFSETTO:-0700
TZNAME:MST
DTSTART:20271107T080000
END:STANDARD
END:VTIMEZONE
BEGIN:VEVENT
DTSTART;TZID=America/Denver:20260131T130000
DTEND;TZID=America/Denver:20260131T230000
DTSTAMP:20260423T180433
CREATED:20260121T174941Z
LAST-MODIFIED:20260121T174941Z
UID:7067-1769864400-1769900400@mealsonwheelsgreeley.com
SUMMARY:Give Back Day at 477 Distilling in Greeley
DESCRIPTION:Join us for Give Back Day at 477 Distilling in Greeley on Saturday\, January 31 (825 9th St.\, Greeley)\, where 15% of proceeds will support Meals on Wheels of Greeley and Weld County – helping deliver nourishing meals\, friendly visits\, and peace of mind to older adults right here at home. \nThis Give Back Day is extra special because it celebrates what strengthens communities most: collaboration. \nThat same day\, 477 Distilling’s Loveland location (123 E 5th St.\, downtown Loveland) will donate 15% of proceeds to Meals on Wheels of Loveland and Berthoud. Typically\, both locations feature one nonprofit\, but this time we’re sharing the spotlight and the impact – showing what partnership can look like across Northern Colorado when we unite around the same mission. \nStop in\, enjoy a drink\, and make your night out matter – every purchase helps provide meals and meaningful connection for older adults.
URL:https://mealsonwheelsgreeley.com/event/give-back-day-at-477-distilling-in-greeley/
LOCATION:477 Distilling\, 825 9th St.\, Greeley\, CO\, 80631\, United States
END:VEVENT
END:VCALENDAR